BEGIN:VCALENDAR
VERSION:2.0
METHOD:PUBLISH
BEGIN:VEVENT
UID:WILD_APRICOT_EVENT_3604564_SESSION_1
DTSTART:20200502T120000Z
DTEND:20200503T120000Z
SUMMARY:Training Day for Prospective Members - Limited numbers - Early Bookings Essential
LOCATION:Orongorongo area
DESCRIPTION:http://ccvc.org.nz/event-3604564\n\nThis is a Training Day for prospective members\n  Please register for this event but note that numbers are limited . Note: Registrations close one week prior to the event.\n  If you registration arrives after the trip is fully booked you will be placed on a "wait list" should there be a cancellation and you will be advised.\n  Vehicles must have a low ratio gearbox and not be a 4wd car\, station wagon or van.\n  The Training Day trip fee is currently set at $90. This includes: the cost of training materials\, land access and visitor fees and the non-refundable club joining fee. If you have already joined the Club the fee is $20.\n  Fees are payable to the Training Officer on the day. Note: no EFTPOS facilities available so Cash only.\n  Anyone wishing to go on the list for future Training Days should email training@ccvc.org.nz\n  \n\n
DTSTAMP:20191219T055647Z
END:VEVENT
END:VCALENDAR
