BEGIN:VCALENDAR
VERSION:2.0
METHOD:PUBLISH
BEGIN:VEVENT
UID:WILD_APRICOT_EVENT_3640064_SESSION_1
DTSTART:20191228T110000Z
DTEND:20191229T110000Z
SUMMARY:Wairarapa Back Country Roads - open to all FWD or AWD vehicles with reasonable ground clearance
LOCATION:Wairarapa
DESCRIPTION:http://ccvc.org.nz/event-3640064\n\nThis is a "touring" trip around the back country roads of the Wairarapa from the mountains to the sea.\n  It will be run on public roads (a mix of seal and gravel) and is open to anyone who's vehicle is rated as 4WD or AWD and has reasonable ground clearance\, to handle the pot holes etc of New Zealand country roads. (e.g. a 4wd Lamborghini super-car would be unsuitable).\n  This is a one day trip and will cover approximately 400 km's.\n  Bring that 4WD / AWD SUV along and explore some back roads of rural New Zealand.\n  Start points etc will be advised when you register.\n
DTSTAMP:20191219T055443Z
END:VEVENT
END:VCALENDAR
