BEGIN:VCALENDAR
VERSION:2.0
METHOD:PUBLISH
BEGIN:VEVENT
UID:WILD_APRICOT_EVENT_3643464_SESSION_1
DTSTART:20191227T110000Z
DTEND:20191228T110000Z
SUMMARY:Club 4x4 - Akatarawas with DD
LOCATION:Akatarawa Forest
DESCRIPTION:http://ccvc.org.nz/event-3643464\n\nRestricted to CCVC members and Members of other NZFWDA affiliated clubs.\n  Book directly with Dave\n  CCVC Members refer to the document below for booking instructions:\n  Akatarawa Club 4x4 - Booking Instructions.pdf\n\nMembers of other 4wd clubs should email daviddemartin@hotmail.com to obtain the information
DTSTAMP:20191219T051810Z
END:VEVENT
END:VCALENDAR
