BEGIN:VCALENDAR
VERSION:2.0
METHOD:PUBLISH
BEGIN:VEVENT
UID:WILD_APRICOT_EVENT_3643466_SESSION_1
DTSTART:20200104T110000Z
DTEND:20200105T110000Z
SUMMARY:Club 4x4 - Akatarawas with DD
LOCATION:Akatarawa Forest
DESCRIPTION:http://ccvc.org.nz/event-3643466\n\nRestricted to CCVC members and Members of other NZFWDA affiliated clubs.\n  Book directly with Dave\n  CCVC Members refer to the document below for booking instructions:\n  Akatarawa Club 4x4 - Booking Instructions.pdf\n\n  Members of other 4wd clubs should use the "Contact Us" feature below to obtain the information\n
DTSTAMP:20191219T055505Z
END:VEVENT
END:VCALENDAR
