BEGIN:VCALENDAR
VERSION:2.0
METHOD:PUBLISH
BEGIN:VEVENT
UID:WILD_APRICOT_EVENT_3660953_SESSION_1
DTSTART:20200103T110000Z
DTEND:20200104T110000Z
SUMMARY:Shiny 4x4 - Club 4x4 - McKenzie Trail
LOCATION:McKenzie Trail
DESCRIPTION:http://ccvc.org.nz/event-3660953\n\nThis trip is for CCVC Club Members and Members of other NZFWDA Associated Clubs only.\n  NZFWDA Club Members need to use the "Contact Us " function at the bottom of the page in order to be put in contact with the trip leader.\n  CCVC Members (only) can view the full trip sheet below.\n  Mckenzie Trail - Generic Trip.pdf\n\n
DTSTAMP:20191219T055454Z
END:VEVENT
END:VCALENDAR
